BEGIN:VCALENDAR
VERSION:2.0
PRODID:-//Blackburn Community Association - ECPv6.15.20//NONSGML v1.0//EN
CALSCALE:GREGORIAN
METHOD:PUBLISH
X-ORIGINAL-URL:https://blackburnhamlet.ca
X-WR-CALDESC:Events for Blackburn Community Association
REFRESH-INTERVAL;VALUE=DURATION:PT1H
X-Robots-Tag:noindex
X-PUBLISHED-TTL:PT1H
BEGIN:VTIMEZONE
TZID:America/Toronto
BEGIN:DAYLIGHT
TZOFFSETFROM:-0500
TZOFFSETTO:-0400
TZNAME:EDT
DTSTART:20210314T070000
END:DAYLIGHT
BEGIN:STANDARD
TZOFFSETFROM:-0400
TZOFFSETTO:-0500
TZNAME:EST
DTSTART:20211107T060000
END:STANDARD
BEGIN:DAYLIGHT
TZOFFSETFROM:-0500
TZOFFSETTO:-0400
TZNAME:EDT
DTSTART:20220313T070000
END:DAYLIGHT
BEGIN:STANDARD
TZOFFSETFROM:-0400
TZOFFSETTO:-0500
TZNAME:EST
DTSTART:20221106T060000
END:STANDARD
BEGIN:DAYLIGHT
TZOFFSETFROM:-0500
TZOFFSETTO:-0400
TZNAME:EDT
DTSTART:20230312T070000
END:DAYLIGHT
BEGIN:STANDARD
TZOFFSETFROM:-0400
TZOFFSETTO:-0500
TZNAME:EST
DTSTART:20231105T060000
END:STANDARD
END:VTIMEZONE
BEGIN:VEVENT
DTSTART;TZID=America/Toronto:20220529T090000
DTEND;TZID=America/Toronto:20220529T120000
DTSTAMP:20260424T210728
CREATED:20220409T191908Z
LAST-MODIFIED:20220508T194035Z
UID:10000091-1653814800-1653825600@blackburnhamlet.ca
SUMMARY:Tree Giveaway
DESCRIPTION:Ecology Ottawa and BCA tree team will be handing out free saplings near the entrance to the Blackburn Metro store from 9am to Noon. \nWhat trees will we have available? \nWe’re going to have more tree species variety than ever before this year! This will include 22 species of native coniferous and deciduous trees—including more fruit\, nut\, berry\, and sap-bearing trees than ever to help address food security in the region. A full species list is coming soon! \nWe are proud to source all of the trees we distribute from the Ferguson Tree Nursery in Kemptville. They only grow native and proven non-invasive naturalized trees\, shrubs\, and perennials hardy for the south-central and eastern Ontario climate. \n*Please note: \n\nThe trees available through this program are between half a foot and a foot and a half tall.\nWe are not able to make any guarantees of which tree species will be at any given event. We will always do our best to bring as many different species as possible to each giveaway\, however\, we cannot guarantee that we will have every species on the 2022 list available at any one time.\nTrees are living things and Mother Nature doesn’t always want to follow our schedule. We appreciate your understanding in advance that the trees available through this program are subject to change based on nursery availability.
URL:https://blackburnhamlet.ca/event/tree-giveaway/
LOCATION:Blackburn Metro\, 2636 Innes Road\, Ottawa\, Ontario\, K1B 4Z8\, Canada
CATEGORIES:Environment,TreeTeam
ATTACH;FMTTYPE=image/jpeg:https://blackburnhamlet.ca/wp-content/uploads/2022/04/tree_giveaway2.jpg
END:VEVENT
END:VCALENDAR