BEGIN:VCALENDAR
VERSION:2.0
PRODID:-//Blackburn Community Association - ECPv6.15.20//NONSGML v1.0//EN
CALSCALE:GREGORIAN
METHOD:PUBLISH
X-ORIGINAL-URL:https://blackburnhamlet.ca
X-WR-CALDESC:Events for Blackburn Community Association
REFRESH-INTERVAL;VALUE=DURATION:PT1H
X-Robots-Tag:noindex
X-PUBLISHED-TTL:PT1H
BEGIN:VTIMEZONE
TZID:America/Toronto
BEGIN:DAYLIGHT
TZOFFSETFROM:-0500
TZOFFSETTO:-0400
TZNAME:EDT
DTSTART:20220313T070000
END:DAYLIGHT
BEGIN:STANDARD
TZOFFSETFROM:-0400
TZOFFSETTO:-0500
TZNAME:EST
DTSTART:20221106T060000
END:STANDARD
BEGIN:DAYLIGHT
TZOFFSETFROM:-0500
TZOFFSETTO:-0400
TZNAME:EDT
DTSTART:20230312T070000
END:DAYLIGHT
BEGIN:STANDARD
TZOFFSETFROM:-0400
TZOFFSETTO:-0500
TZNAME:EST
DTSTART:20231105T060000
END:STANDARD
BEGIN:DAYLIGHT
TZOFFSETFROM:-0500
TZOFFSETTO:-0400
TZNAME:EDT
DTSTART:20240310T070000
END:DAYLIGHT
BEGIN:STANDARD
TZOFFSETFROM:-0400
TZOFFSETTO:-0500
TZNAME:EST
DTSTART:20241103T060000
END:STANDARD
BEGIN:DAYLIGHT
TZOFFSETFROM:-0500
TZOFFSETTO:-0400
TZNAME:EDT
DTSTART:20250309T070000
END:DAYLIGHT
BEGIN:STANDARD
TZOFFSETFROM:-0400
TZOFFSETTO:-0500
TZNAME:EST
DTSTART:20251102T060000
END:STANDARD
BEGIN:DAYLIGHT
TZOFFSETFROM:-0500
TZOFFSETTO:-0400
TZNAME:EDT
DTSTART:20260308T070000
END:DAYLIGHT
BEGIN:STANDARD
TZOFFSETFROM:-0400
TZOFFSETTO:-0500
TZNAME:EST
DTSTART:20261101T060000
END:STANDARD
END:VTIMEZONE
BEGIN:VEVENT
DTSTART;TZID=America/Toronto:20251213T170000
DTEND;TZID=America/Toronto:20251213T183000
DTSTAMP:20260424T194456
CREATED:20250419T143817Z
LAST-MODIFIED:20251016T172222Z
UID:10000342-1765645200-1765650600@blackburnhamlet.ca
SUMMARY:Community Christmas Tree
DESCRIPTION:This year’s lighting of the Blackburn Community Christmas Tree will be held on December 13. The tree\, with its array of decorations\, will be positioned directly in front of the Blackburn Pharmacy\, located at 2575 Innes Road (intersection of Southpark & Innes). This year’s theme is “The joy of Family”. \nOur Tree Lighting event is a wonderful community tradition that brings neighbours\, families\, and friends together to celebrate the start of the holiday season. While the official lighting is planned for 5:30pm on December 13 we encourage everyone to be onsite before the lighting so as to enjoy the festive atmosphere. We will have gifts for the children\, the music of Christmas carols\, snacks for all ages and the delicious taste of hot chocolate\, courtesy of our Councillor Laura Dudas. \nThere will be limited parking in the area and we ask that you use the parking area at École Sainte-Marie. \nWe look forward to seeing everyone on December 13.
URL:https://blackburnhamlet.ca/event/community-christmas-tree-3/
LOCATION:Blackburn Pharmacy\, 2575 Innes Road\, Ottawa\, Ontario\, K1B 3K1\, Canada
CATEGORIES:BCA
ATTACH;FMTTYPE=image/png:https://blackburnhamlet.ca/wp-content/uploads/2024/10/Xmas-Tree.png
ORGANIZER;CN="BCA Safety":MAILTO:safety@blackburnhamlet.ca
END:VEVENT
BEGIN:VEVENT
DTSTART;TZID=America/Toronto:20241214T183000
DTEND;TZID=America/Toronto:20241214T200000
DTSTAMP:20260424T194456
CREATED:20241018T171404Z
LAST-MODIFIED:20241129T134958Z
UID:10000295-1734201000-1734206400@blackburnhamlet.ca
SUMMARY:Community Christmas Tree
DESCRIPTION:On December 14 at 6:30pm\, directly in front of the Blackburn Pharmacy\, the Blackburn Hamlet Community Association will be holding a ceremony for the lighting of the Second Annual Community Christmas Tree. You and your family are welcomed to join us in helping decorate the tree while enjoying hot chocolate and snacks.
URL:https://blackburnhamlet.ca/event/community-christmas-tree-2/
LOCATION:Blackburn Pharmacy\, 2575 Innes Road\, Ottawa\, Ontario\, K1B 3K1\, Canada
CATEGORIES:BCA
ATTACH;FMTTYPE=image/png:https://blackburnhamlet.ca/wp-content/uploads/2024/10/Xmas-Tree.png
ORGANIZER;CN="BCA Safety":MAILTO:safety@blackburnhamlet.ca
END:VEVENT
BEGIN:VEVENT
DTSTART;TZID=America/Toronto:20231209T190000
DTEND;TZID=America/Toronto:20231209T200000
DTSTAMP:20260424T194456
CREATED:20231123T015909Z
LAST-MODIFIED:20231128T233450Z
UID:10000189-1702148400-1702152000@blackburnhamlet.ca
SUMMARY:Community Christmas Tree
DESCRIPTION:On December 9 at 7pm\, directly in front of the Blackburn Pharmacy\, the Blackburn Hamlet Community Association will be holding a ceremony for the lighting of the first ever Community Christmas Tree. You and your family are welcomed to join us in helping decorate the tree while enjoying hot chocolate and snacks.
URL:https://blackburnhamlet.ca/event/community-christmas-tree/
LOCATION:Blackburn Pharmacy\, 2575 Innes Road\, Ottawa\, Ontario\, K1B 3K1\, Canada
CATEGORIES:BCA
ATTACH;FMTTYPE=image/png:https://blackburnhamlet.ca/wp-content/uploads/2023/11/Xmas-Tree.png
ORGANIZER;CN="BCA Safety":MAILTO:safety@blackburnhamlet.ca
END:VEVENT
END:VCALENDAR