BEGIN:VCALENDAR
VERSION:2.0
PRODID:-//Blackburn Community Association - ECPv6.15.20//NONSGML v1.0//EN
CALSCALE:GREGORIAN
METHOD:PUBLISH
X-WR-CALNAME:Blackburn Community Association
X-ORIGINAL-URL:https://blackburnhamlet.ca
X-WR-CALDESC:Events for Blackburn Community Association
REFRESH-INTERVAL;VALUE=DURATION:PT1H
X-Robots-Tag:noindex
X-PUBLISHED-TTL:PT1H
BEGIN:VTIMEZONE
TZID:America/Toronto
BEGIN:DAYLIGHT
TZOFFSETFROM:-0500
TZOFFSETTO:-0400
TZNAME:EDT
DTSTART:20200308T070000
END:DAYLIGHT
BEGIN:STANDARD
TZOFFSETFROM:-0400
TZOFFSETTO:-0500
TZNAME:EST
DTSTART:20201101T060000
END:STANDARD
BEGIN:DAYLIGHT
TZOFFSETFROM:-0500
TZOFFSETTO:-0400
TZNAME:EDT
DTSTART:20210314T070000
END:DAYLIGHT
BEGIN:STANDARD
TZOFFSETFROM:-0400
TZOFFSETTO:-0500
TZNAME:EST
DTSTART:20211107T060000
END:STANDARD
BEGIN:DAYLIGHT
TZOFFSETFROM:-0500
TZOFFSETTO:-0400
TZNAME:EDT
DTSTART:20220313T070000
END:DAYLIGHT
BEGIN:STANDARD
TZOFFSETFROM:-0400
TZOFFSETTO:-0500
TZNAME:EST
DTSTART:20221106T060000
END:STANDARD
END:VTIMEZONE
BEGIN:VEVENT
DTSTART;TZID=America/Toronto:20211219T080000
DTEND;TZID=America/Toronto:20211219T120000
DTSTAMP:20260425T154005
CREATED:20211126T163825Z
LAST-MODIFIED:20211226T191050Z
UID:10000077-1639900800-1639915200@blackburnhamlet.ca
SUMMARY:Holiday Pancake Breakfast
DESCRIPTION:Come spread some community cheer with a pancake breakfast at the Blackburn Community Hall. \nThis year we are asking guests to pre-register for a time slot so we can better manage the capacity of the space. Also all guests and volunteers 12+ must be fully vaccinated. \nTo pre-register for your preferred time slot and for all other information check out the link below:\nhttps://blackburnhamlet.ca/2021-holiday-breakfast-registration/ \nFor any other questions feel free to reach out to santasbreakfast@blackburnhamlet.ca
URL:https://blackburnhamlet.ca/event/santas-breakfast/
LOCATION:Blackburn Community Hall\, 190 Glen Park Drive\, Ottawa\, Ontario\, K2B 5A3\, Canada
CATEGORIES:BCA,Santa's Breakfast,Seniors,Youth
ATTACH;FMTTYPE=image/jpeg:https://blackburnhamlet.ca/wp-content/uploads/2021/11/2021_SantaBreakfast.jpg
END:VEVENT
END:VCALENDAR