BEGIN:VCALENDAR
VERSION:2.0
PRODID:-//Blackburn Community Association - ECPv6.15.20//NONSGML v1.0//EN
CALSCALE:GREGORIAN
METHOD:PUBLISH
X-WR-CALNAME:Blackburn Community Association
X-ORIGINAL-URL:https://blackburnhamlet.ca
X-WR-CALDESC:Events for Blackburn Community Association
REFRESH-INTERVAL;VALUE=DURATION:PT1H
X-Robots-Tag:noindex
X-PUBLISHED-TTL:PT1H
BEGIN:VTIMEZONE
TZID:America/Toronto
BEGIN:DAYLIGHT
TZOFFSETFROM:-0500
TZOFFSETTO:-0400
TZNAME:EDT
DTSTART:20180311T070000
END:DAYLIGHT
BEGIN:STANDARD
TZOFFSETFROM:-0400
TZOFFSETTO:-0500
TZNAME:EST
DTSTART:20181104T060000
END:STANDARD
BEGIN:DAYLIGHT
TZOFFSETFROM:-0500
TZOFFSETTO:-0400
TZNAME:EDT
DTSTART:20190310T070000
END:DAYLIGHT
BEGIN:STANDARD
TZOFFSETFROM:-0400
TZOFFSETTO:-0500
TZNAME:EST
DTSTART:20191103T060000
END:STANDARD
BEGIN:DAYLIGHT
TZOFFSETFROM:-0500
TZOFFSETTO:-0400
TZNAME:EDT
DTSTART:20200308T070000
END:DAYLIGHT
BEGIN:STANDARD
TZOFFSETFROM:-0400
TZOFFSETTO:-0500
TZNAME:EST
DTSTART:20201101T060000
END:STANDARD
END:VTIMEZONE
BEGIN:VEVENT
DTSTART;TZID=America/Toronto:20190908T040000
DTEND;TZID=America/Toronto:20190908T083000
DTSTAMP:20260425T121638
CREATED:20211017T053010Z
LAST-MODIFIED:20211226T191135Z
UID:10000069-1567915200-1567931400@blackburnhamlet.ca
SUMMARY:Cancer Chase
DESCRIPTION:Blurb about Cancer Chase \nOLD INFO BELOW \nThe Annual Blackburn Hamlet 5K Walk/Run Cancer Chase event\, supported by the Blackburn Community Association and countless community volunteers and sponsors\, will be held on September 8. \nOur focus continues to be raising funds for The Ottawa Hospital Foundation (OHF) for cancer research. \nALL funds raised go to the OHF.  You can donate directly here! \n Last year over $14\,000 was raised for cancer research. \nBe a participant in the fun walk/run\, Be a donor\, Be a volunteer.
URL:https://blackburnhamlet.ca/event/cancer-chase/
LOCATION:Eric Danis Clubhouse\, 1660 Bearbrook Road\, Gloucester\, ON\, K1B 1C4\, Canada
CATEGORIES:BCA
ATTACH;FMTTYPE=image/jpeg:https://blackburnhamlet.ca/wp-content/uploads/2021/10/2019_CancerChase.jpg
ORGANIZER;CN="Lee Stach & Don Kelly":MAILTO:info@cancerchase.com
END:VEVENT
END:VCALENDAR