BEGIN:VCALENDAR
VERSION:2.0
PRODID:-//Blackburn Community Association - ECPv6.15.20//NONSGML v1.0//EN
CALSCALE:GREGORIAN
METHOD:PUBLISH
X-ORIGINAL-URL:https://blackburnhamlet.ca
X-WR-CALDESC:Events for Blackburn Community Association
REFRESH-INTERVAL;VALUE=DURATION:PT1H
X-Robots-Tag:noindex
X-PUBLISHED-TTL:PT1H
BEGIN:VTIMEZONE
TZID:America/Toronto
BEGIN:DAYLIGHT
TZOFFSETFROM:-0500
TZOFFSETTO:-0400
TZNAME:EDT
DTSTART:20220313T070000
END:DAYLIGHT
BEGIN:STANDARD
TZOFFSETFROM:-0400
TZOFFSETTO:-0500
TZNAME:EST
DTSTART:20221106T060000
END:STANDARD
BEGIN:DAYLIGHT
TZOFFSETFROM:-0500
TZOFFSETTO:-0400
TZNAME:EDT
DTSTART:20230312T070000
END:DAYLIGHT
BEGIN:STANDARD
TZOFFSETFROM:-0400
TZOFFSETTO:-0500
TZNAME:EST
DTSTART:20231105T060000
END:STANDARD
BEGIN:DAYLIGHT
TZOFFSETFROM:-0500
TZOFFSETTO:-0400
TZNAME:EDT
DTSTART:20240310T070000
END:DAYLIGHT
BEGIN:STANDARD
TZOFFSETFROM:-0400
TZOFFSETTO:-0500
TZNAME:EST
DTSTART:20241103T060000
END:STANDARD
BEGIN:DAYLIGHT
TZOFFSETFROM:-0500
TZOFFSETTO:-0400
TZNAME:EDT
DTSTART:20250309T070000
END:DAYLIGHT
BEGIN:STANDARD
TZOFFSETFROM:-0400
TZOFFSETTO:-0500
TZNAME:EST
DTSTART:20251102T060000
END:STANDARD
END:VTIMEZONE
BEGIN:VEVENT
DTSTART;TZID=America/Toronto:20240525T090000
DTEND;TZID=America/Toronto:20240525T130000
DTSTAMP:20260424T230639
CREATED:20240304T225850Z
LAST-MODIFIED:20240420T183105Z
UID:10000228-1716627600-1716642000@blackburnhamlet.ca
SUMMARY:Bike Rodeo / Rodéo de vélos
DESCRIPTION:Rain date May 26. \nSee the Youth Bike Rodeo Page for more details! \n\nDate de pluie le 26 Mai. \nVoir le page Rodéo à vélo pour les jeunes pour plus de détails!
URL:https://blackburnhamlet.ca/event/youth-bike-rodeo-tentative-date/
LOCATION:Good Shepherd Catholic School\, 101 Bearbrook Road\, Gloucester\, Ontario\, K1B 3H5\, Canada
CATEGORIES:Transportation,Youth
ATTACH;FMTTYPE=image/png:https://blackburnhamlet.ca/wp-content/uploads/2024/04/KidsOnBikes.png
ORGANIZER;CN="BCA Transportation":MAILTO:transportation@blackburnhamlet.ca
END:VEVENT
BEGIN:VEVENT
DTSTART;TZID=America/Toronto:20230513T090000
DTEND;TZID=America/Toronto:20230513T120000
DTSTAMP:20260424T230639
CREATED:20230120T222927Z
LAST-MODIFIED:20240412T143458Z
UID:10000145-1683968400-1683979200@blackburnhamlet.ca
SUMMARY:Bike Rodeo / rodéo de vélos
DESCRIPTION:The Blackburn Hamlet Community Association (BCA) is holding a Youth Bicycle Rodeo event in the Hamlet on Saturday\, May 13\, from 9-1 pm. The exact location will be provided at a later date. The event is designed to introduce young bike enthusiasts\, aged 6-10\, on proper bike riding techniques. The focus will be on having participants learn how to start\, stop and turn. The event will be conducted by a qualified instructor and a cadre of volunteers. The event will be provided in French and English\, and is free to all residents of Blackburn Hamlet. \n\nTo register\, email safety@blackburnhamlet.ca.   For more details\, and to sign the participation waiver\, visit\n\n\nblackburnhamlet.ca/events/bike-rodeo/\n\n*** \nL’association communautaire de Blackburn Hamlet (ACB) organise un événement de rodéo à vélo pour les jeunes le samedi 13 mai de 9 h à 13 h. L’emplacement exact sera communiqué ultérieurement. L’événement est conçu pour initier les jeunes passionnés de vélo\, âgés de 6 à 10 ans\, aux bonnes techniques de conduite à vélo. L’accent sera mis sur le fait que les participants apprennent à démarrer\, à s’arrêter et à tourner. L’événement sera dirigé par un instructeur qualifié et un groupe de bénévoles. L’événement sera offert en français et en anglais et est gratuit pour tous les résidents de Blackburn Hamlet. \nPour inscrire votre envant\, or pour vous porter bénévole\, svp envoyez un courriel à safety@blackburnhamlet.ca. Des informations plus détaillées seront affichés sur notre page d’événement.
URL:https://blackburnhamlet.ca/event/bike-rodeo-2/
CATEGORIES:Transportation,Youth
ATTACH;FMTTYPE=image/jpeg:https://blackburnhamlet.ca/wp-content/uploads/2022/01/bikerodeo.jpg
ORGANIZER;CN="BCA Transportation":MAILTO:transportation@blackburnhamlet.ca
END:VEVENT
END:VCALENDAR