BEGIN:VCALENDAR
VERSION:2.0
PRODID:-//Blackburn Community Association - ECPv6.15.20//NONSGML v1.0//EN
CALSCALE:GREGORIAN
METHOD:PUBLISH
X-WR-CALNAME:Blackburn Community Association
X-ORIGINAL-URL:https://blackburnhamlet.ca
X-WR-CALDESC:Events for Blackburn Community Association
REFRESH-INTERVAL;VALUE=DURATION:PT1H
X-Robots-Tag:noindex
X-PUBLISHED-TTL:PT1H
BEGIN:VTIMEZONE
TZID:America/Toronto
BEGIN:DAYLIGHT
TZOFFSETFROM:-0500
TZOFFSETTO:-0400
TZNAME:EDT
DTSTART:20250309T070000
END:DAYLIGHT
BEGIN:STANDARD
TZOFFSETFROM:-0400
TZOFFSETTO:-0500
TZNAME:EST
DTSTART:20251102T060000
END:STANDARD
BEGIN:DAYLIGHT
TZOFFSETFROM:-0500
TZOFFSETTO:-0400
TZNAME:EDT
DTSTART:20260308T070000
END:DAYLIGHT
BEGIN:STANDARD
TZOFFSETFROM:-0400
TZOFFSETTO:-0500
TZNAME:EST
DTSTART:20261101T060000
END:STANDARD
BEGIN:DAYLIGHT
TZOFFSETFROM:-0500
TZOFFSETTO:-0400
TZNAME:EDT
DTSTART:20270314T070000
END:DAYLIGHT
BEGIN:STANDARD
TZOFFSETFROM:-0400
TZOFFSETTO:-0500
TZNAME:EST
DTSTART:20271107T060000
END:STANDARD
END:VTIMEZONE
BEGIN:VEVENT
DTSTART;TZID=America/Toronto:20260316T140000
DTEND;TZID=America/Toronto:20260316T150000
DTSTAMP:20260424T160737
CREATED:20260109T222937Z
LAST-MODIFIED:20260306T144729Z
UID:10000403-1773669600-1773673200@blackburnhamlet.ca
SUMMARY:Kids and Youth Zumba class
DESCRIPTION:Blackburn Community Hall \nMonday March 16th 2pm – 2:45pm \nWednesday March 18th 4:30pm – 5:15pm \nKids Zumba (Ages 7+) is a high-energy dance party full of fun music that combines aerobic exercises with fun and easy-to-follow moves! Parents are welcome to join in with their kids. Children 10 and under must be accompanied by an adult. Come dance\, laugh\, and move together!
URL:https://blackburnhamlet.ca/event/kids-and-youth-zumba-class/
LOCATION:Blackburn Community Hall\, 190 Glen Park Drive\, Ottawa\, Ontario\, K2B 5A3\, Canada
CATEGORIES:Youth
ATTACH;FMTTYPE=image/png:https://blackburnhamlet.ca/wp-content/uploads/2026/01/Zumba-Class.png
ORGANIZER;CN="BCA Youth":MAILTO:youth@blackburnhamlet.ca
END:VEVENT
BEGIN:VEVENT
DTSTART;TZID=America/Toronto:20260318T163000
DTEND;TZID=America/Toronto:20260318T173000
DTSTAMP:20260424T160737
CREATED:20260109T223052Z
LAST-MODIFIED:20260306T144659Z
UID:10000405-1773851400-1773855000@blackburnhamlet.ca
SUMMARY:Kids and Youth Zumba class
DESCRIPTION:Blackburn Community Hall \nMonday March 16th 2pm – 2:45pm \nWednesday March 18th 4:30pm – 5:15pm \nKids Zumba (Ages 7+) is a high-energy dance party full of fun music that combines aerobic exercises with fun and easy-to-follow moves! Parents are welcome to join in with their kids. Children 10 and under must be accompanied by an adult. Come dance\, laugh\, and move together!
URL:https://blackburnhamlet.ca/event/kids-and-youth-zumba-class-2/
LOCATION:Blackburn Community Hall\, 190 Glen Park Drive\, Ottawa\, Ontario\, K2B 5A3\, Canada
CATEGORIES:Youth
ATTACH;FMTTYPE=image/png:https://blackburnhamlet.ca/wp-content/uploads/2026/01/Zumba-Class.png
ORGANIZER;CN="BCA Youth":MAILTO:youth@blackburnhamlet.ca
END:VEVENT
END:VCALENDAR