BEGIN:VCALENDAR
VERSION:2.0
PRODID:-//Blackburn Community Association - ECPv6.15.20//NONSGML v1.0//EN
CALSCALE:GREGORIAN
METHOD:PUBLISH
X-WR-CALNAME:Blackburn Community Association
X-ORIGINAL-URL:https://blackburnhamlet.ca
X-WR-CALDESC:Events for Blackburn Community Association
REFRESH-INTERVAL;VALUE=DURATION:PT1H
X-Robots-Tag:noindex
X-PUBLISHED-TTL:PT1H
BEGIN:VTIMEZONE
TZID:America/Toronto
BEGIN:DAYLIGHT
TZOFFSETFROM:-0500
TZOFFSETTO:-0400
TZNAME:EDT
DTSTART:20250309T070000
END:DAYLIGHT
BEGIN:STANDARD
TZOFFSETFROM:-0400
TZOFFSETTO:-0500
TZNAME:EST
DTSTART:20251102T060000
END:STANDARD
BEGIN:DAYLIGHT
TZOFFSETFROM:-0500
TZOFFSETTO:-0400
TZNAME:EDT
DTSTART:20260308T070000
END:DAYLIGHT
BEGIN:STANDARD
TZOFFSETFROM:-0400
TZOFFSETTO:-0500
TZNAME:EST
DTSTART:20261101T060000
END:STANDARD
BEGIN:DAYLIGHT
TZOFFSETFROM:-0500
TZOFFSETTO:-0400
TZNAME:EDT
DTSTART:20270314T070000
END:DAYLIGHT
BEGIN:STANDARD
TZOFFSETFROM:-0400
TZOFFSETTO:-0500
TZNAME:EST
DTSTART:20271107T060000
END:STANDARD
END:VTIMEZONE
BEGIN:VEVENT
DTSTART;TZID=America/Toronto:20260314T123000
DTEND;TZID=America/Toronto:20260314T150000
DTSTAMP:20260424T221901
CREATED:20260109T222739Z
LAST-MODIFIED:20260306T144849Z
UID:10000402-1773491400-1773500400@blackburnhamlet.ca
SUMMARY:Kids and Youth Karaoke
DESCRIPTION:Saturday March 14th 12:30pm – 3pm \nBlackburn Community Hall \nGrab the mic and shine! This karaoke event is for kids and youth of all ages. No experience needed— whether singing solo or with friends\, it’s all about fun! Kids 10 and under must be accompanied by an adult.
URL:https://blackburnhamlet.ca/event/kids-and-youth-karaoke/
LOCATION:Blackburn Community Hall\, 190 Glen Park Drive\, Ottawa\, Ontario\, K2B 5A3\, Canada
CATEGORIES:Youth
ATTACH;FMTTYPE=image/png:https://blackburnhamlet.ca/wp-content/uploads/2026/01/Karaoke.png
ORGANIZER;CN="BCA Youth":MAILTO:youth@blackburnhamlet.ca
END:VEVENT
END:VCALENDAR