BEGIN:VCALENDAR
VERSION:2.0
PRODID:-//Blackburn Community Association - ECPv6.15.20//NONSGML v1.0//EN
CALSCALE:GREGORIAN
METHOD:PUBLISH
X-ORIGINAL-URL:https://blackburnhamlet.ca
X-WR-CALDESC:Events for Blackburn Community Association
REFRESH-INTERVAL;VALUE=DURATION:PT1H
X-Robots-Tag:noindex
X-PUBLISHED-TTL:PT1H
BEGIN:VTIMEZONE
TZID:America/Toronto
BEGIN:DAYLIGHT
TZOFFSETFROM:-0500
TZOFFSETTO:-0400
TZNAME:EDT
DTSTART:20250309T070000
END:DAYLIGHT
BEGIN:STANDARD
TZOFFSETFROM:-0400
TZOFFSETTO:-0500
TZNAME:EST
DTSTART:20251102T060000
END:STANDARD
BEGIN:DAYLIGHT
TZOFFSETFROM:-0500
TZOFFSETTO:-0400
TZNAME:EDT
DTSTART:20260308T070000
END:DAYLIGHT
BEGIN:STANDARD
TZOFFSETFROM:-0400
TZOFFSETTO:-0500
TZNAME:EST
DTSTART:20261101T060000
END:STANDARD
BEGIN:DAYLIGHT
TZOFFSETFROM:-0500
TZOFFSETTO:-0400
TZNAME:EDT
DTSTART:20270314T070000
END:DAYLIGHT
BEGIN:STANDARD
TZOFFSETFROM:-0400
TZOFFSETTO:-0500
TZNAME:EST
DTSTART:20271107T060000
END:STANDARD
END:VTIMEZONE
BEGIN:VEVENT
DTSTART;TZID=America/Toronto:20260228T113000
DTEND;TZID=America/Toronto:20260228T133000
DTSTAMP:20260424T221014
CREATED:20260109T221807Z
LAST-MODIFIED:20260109T221807Z
UID:10000401-1772278200-1772285400@blackburnhamlet.ca
SUMMARY:Games and Goodies
DESCRIPTION:Kids\, Youth\, and their Families \nSaturday February 28th 11:30am – 1:30pm \nBlackburn Community Hall \nKids\, youth and their parents are invited to join us at the hall where there will be a variety of board games available to play\, as well as a few video games! Refreshments will be provided.
URL:https://blackburnhamlet.ca/event/games-and-goodies/
LOCATION:Blackburn Community Hall\, 190 Glen Park Drive\, Ottawa\, Ontario\, K2B 5A3\, Canada
CATEGORIES:Youth
ATTACH;FMTTYPE=image/png:https://blackburnhamlet.ca/wp-content/uploads/2025/10/Board-Games.png
ORGANIZER;CN="BCA Youth":MAILTO:youth@blackburnhamlet.ca
END:VEVENT
END:VCALENDAR