BEGIN:VCALENDAR
VERSION:2.0
PRODID:-//Blackburn Community Association - ECPv6.15.20//NONSGML v1.0//EN
CALSCALE:GREGORIAN
METHOD:PUBLISH
X-ORIGINAL-URL:https://blackburnhamlet.ca
X-WR-CALDESC:Events for Blackburn Community Association
REFRESH-INTERVAL;VALUE=DURATION:PT1H
X-Robots-Tag:noindex
X-PUBLISHED-TTL:PT1H
BEGIN:VTIMEZONE
TZID:America/Toronto
BEGIN:DAYLIGHT
TZOFFSETFROM:-0500
TZOFFSETTO:-0400
TZNAME:EDT
DTSTART:20250309T070000
END:DAYLIGHT
BEGIN:STANDARD
TZOFFSETFROM:-0400
TZOFFSETTO:-0500
TZNAME:EST
DTSTART:20251102T060000
END:STANDARD
BEGIN:DAYLIGHT
TZOFFSETFROM:-0500
TZOFFSETTO:-0400
TZNAME:EDT
DTSTART:20260308T070000
END:DAYLIGHT
BEGIN:STANDARD
TZOFFSETFROM:-0400
TZOFFSETTO:-0500
TZNAME:EST
DTSTART:20261101T060000
END:STANDARD
BEGIN:DAYLIGHT
TZOFFSETFROM:-0500
TZOFFSETTO:-0400
TZNAME:EDT
DTSTART:20270314T070000
END:DAYLIGHT
BEGIN:STANDARD
TZOFFSETFROM:-0400
TZOFFSETTO:-0500
TZNAME:EST
DTSTART:20271107T060000
END:STANDARD
END:VTIMEZONE
BEGIN:VEVENT
DTSTART;TZID=America/Toronto:20260103T110000
DTEND;TZID=America/Toronto:20260103T120000
DTSTAMP:20260424T234230
CREATED:20251026T235634Z
LAST-MODIFIED:20251026T235634Z
UID:10000398-1767438000-1767441600@blackburnhamlet.ca
SUMMARY:Kids Yoga
DESCRIPTION:Ages 6 – 12 Saturday\, January 3rd from 11am to noon at the Blackburn Community Hall. \nReady to feel refreshed before the end of the holidays? Start the New Year off right and participate in kids yoga at the Hall. Enjoy a fruit juice or smoothie when the yoga ends before heading home. *Please arrive on time. Bring your own yoga mat or towel. Ages 10 and under must be accompanied by an adult.
URL:https://blackburnhamlet.ca/event/kids-yoga/
LOCATION:Blackburn Community Hall\, 190 Glen Park Drive\, Ottawa\, Ontario\, K2B 5A3\, Canada
CATEGORIES:Youth
ATTACH;FMTTYPE=image/png:https://blackburnhamlet.ca/wp-content/uploads/2025/10/Kids-Yoga.png
ORGANIZER;CN="BCA Youth":MAILTO:youth@blackburnhamlet.ca
END:VEVENT
END:VCALENDAR