BEGIN:VCALENDAR
VERSION:2.0
PRODID:-//Blackburn Community Association - ECPv6.15.20//NONSGML v1.0//EN
CALSCALE:GREGORIAN
METHOD:PUBLISH
X-ORIGINAL-URL:https://blackburnhamlet.ca
X-WR-CALDESC:Events for Blackburn Community Association
REFRESH-INTERVAL;VALUE=DURATION:PT1H
X-Robots-Tag:noindex
X-PUBLISHED-TTL:PT1H
BEGIN:VTIMEZONE
TZID:America/Toronto
BEGIN:DAYLIGHT
TZOFFSETFROM:-0500
TZOFFSETTO:-0400
TZNAME:EDT
DTSTART:20230312T070000
END:DAYLIGHT
BEGIN:STANDARD
TZOFFSETFROM:-0400
TZOFFSETTO:-0500
TZNAME:EST
DTSTART:20231105T060000
END:STANDARD
BEGIN:DAYLIGHT
TZOFFSETFROM:-0500
TZOFFSETTO:-0400
TZNAME:EDT
DTSTART:20240310T070000
END:DAYLIGHT
BEGIN:STANDARD
TZOFFSETFROM:-0400
TZOFFSETTO:-0500
TZNAME:EST
DTSTART:20241103T060000
END:STANDARD
BEGIN:DAYLIGHT
TZOFFSETFROM:-0500
TZOFFSETTO:-0400
TZNAME:EDT
DTSTART:20250309T070000
END:DAYLIGHT
BEGIN:STANDARD
TZOFFSETFROM:-0400
TZOFFSETTO:-0500
TZNAME:EST
DTSTART:20251102T060000
END:STANDARD
END:VTIMEZONE
BEGIN:VEVENT
DTSTART;TZID=America/Toronto:20240525T080000
DTEND;TZID=America/Toronto:20240526T140000
DTSTAMP:20260425T065135
CREATED:20231002T195329Z
LAST-MODIFIED:20240428T155726Z
UID:10000185-1716624000-1716732000@blackburnhamlet.ca
SUMMARY:Neighbourwoods
DESCRIPTION:What is Neighbourwoods? The city has very limited information about trees on private property. The purpose of Neighbourwoods is to gather information such as the type\, size\, and health of trees on private property\, as well as in some of our parks to help us plan better diversity in our tree canopy. Volunteers receive free training from forestry professionals to learn how to identify\, measure and assess the health of trees. \nThe Blackburn Neighbourwoods Program is launching its 3rd season. Volunteers will be trained to take inventory of the trees on private property in Blackburn Hamlet. Our next training session with Dr. Andrew Kenny will be May 25 and 26 at the Blackburn Community Centre from 9am to 4pm. \nEveryone is welcome\, even if you can only attend a portion of the training. Bring your lunch and dress for the weather as most of the training is outdoors. \nTo register or for more information about this program please contact Clifton Charie at treeinventory@blackburnhamlet.ca.
URL:https://blackburnhamlet.ca/event/neighbourwoods-2/
LOCATION:Blackburn Community Hall\, 190 Glen Park Drive\, Ottawa\, Ontario\, K2B 5A3\, Canada
CATEGORIES:Environment,Neighbourwoods,TreeTeam
ATTACH;FMTTYPE=image/jpeg:https://blackburnhamlet.ca/wp-content/uploads/2023/03/neighbourwoods.jpg
ORGANIZER;CN="BCA Environment":MAILTO:enviro@blackburnhamlet.ca
END:VEVENT
END:VCALENDAR