BEGIN:VCALENDAR
VERSION:2.0
PRODID:-//Blackburn Community Association - ECPv6.15.20//NONSGML v1.0//EN
CALSCALE:GREGORIAN
METHOD:PUBLISH
X-WR-CALNAME:Blackburn Community Association
X-ORIGINAL-URL:https://blackburnhamlet.ca
X-WR-CALDESC:Events for Blackburn Community Association
REFRESH-INTERVAL;VALUE=DURATION:PT1H
X-Robots-Tag:noindex
X-PUBLISHED-TTL:PT1H
BEGIN:VTIMEZONE
TZID:America/Toronto
BEGIN:DAYLIGHT
TZOFFSETFROM:-0500
TZOFFSETTO:-0400
TZNAME:EDT
DTSTART:20240310T070000
END:DAYLIGHT
BEGIN:STANDARD
TZOFFSETFROM:-0400
TZOFFSETTO:-0500
TZNAME:EST
DTSTART:20241103T060000
END:STANDARD
BEGIN:DAYLIGHT
TZOFFSETFROM:-0500
TZOFFSETTO:-0400
TZNAME:EDT
DTSTART:20250309T070000
END:DAYLIGHT
BEGIN:STANDARD
TZOFFSETFROM:-0400
TZOFFSETTO:-0500
TZNAME:EST
DTSTART:20251102T060000
END:STANDARD
BEGIN:DAYLIGHT
TZOFFSETFROM:-0500
TZOFFSETTO:-0400
TZNAME:EDT
DTSTART:20260308T070000
END:DAYLIGHT
BEGIN:STANDARD
TZOFFSETFROM:-0400
TZOFFSETTO:-0500
TZNAME:EST
DTSTART:20261101T060000
END:STANDARD
END:VTIMEZONE
BEGIN:VEVENT
DTSTART;TZID=America/Toronto:20250524T100000
DTEND;TZID=America/Toronto:20250524T120000
DTSTAMP:20260424T171431
CREATED:20250416T190031Z
LAST-MODIFIED:20250523T004402Z
UID:10000338-1748080800-1748088000@blackburnhamlet.ca
SUMMARY:Bike Rodeo
DESCRIPTION:NOTICE \nPlease be advised that the BCA Children Bike Rodeo that is scheduled for Saturday\, May 24\, has been cancelled due to weather conditions. The decision was made because conducting biking maneuvers in wet and 8 degree weather is unsafe for our young riders. It is also challenging for the event volunteer support group. We will hold the event at a later date when better conditions prevail. \nBCA Safety \nThe Blackburn Hamlet Community Association (BCA) will be hosting a Youth Bicycle Rodeo on Saturday\, May 24 at the Blackburn arena parking area\, 200 Glen Park Drive\, for children ages 6 to 11. \nRiders will learn how to wear helmets safely\, the importance of knowing their bicycle ABCs (Air in tires; Brakes; and Crank/Chain/Cogs)\, and safe riding skills like hand signaling\, braking and maneuvering through obstacles. The course is taught by an experienced and qualified bicycle instructor. There will be bicycle safety literature and gifts for participants. Participants will also receive a Certificate of Achievement from the BCA. \nThe course is FREE but participants must arrive with a proper-fitting helmet and a bicycle in a serviceable condition. To register for this event\, contact Don Kelly at safety@blackburnhamlet.ca. Adult volunteers are welcomed and appreciated
URL:https://blackburnhamlet.ca/event/bike-rodeo/
LOCATION:Lois Kemp Arena\, 200 Glen Park Drive\, Ottawa\, Ontario\, K1B 5A3\, Canada
CATEGORIES:Bike Rodeo,Youth
ATTACH;FMTTYPE=image/png:https://blackburnhamlet.ca/wp-content/uploads/2024/04/KidsOnBikes.png
ORGANIZER;CN="BCA Safety":MAILTO:safety@blackburnhamlet.ca
END:VEVENT
END:VCALENDAR