BEGIN:VCALENDAR
VERSION:2.0
PRODID:-//Blackburn Community Association - ECPv6.15.20//NONSGML v1.0//EN
CALSCALE:GREGORIAN
METHOD:PUBLISH
X-WR-CALNAME:Blackburn Community Association
X-ORIGINAL-URL:https://blackburnhamlet.ca
X-WR-CALDESC:Events for Blackburn Community Association
REFRESH-INTERVAL;VALUE=DURATION:PT1H
X-Robots-Tag:noindex
X-PUBLISHED-TTL:PT1H
BEGIN:VTIMEZONE
TZID:America/Toronto
BEGIN:DAYLIGHT
TZOFFSETFROM:-0500
TZOFFSETTO:-0400
TZNAME:EDT
DTSTART:20210314T070000
END:DAYLIGHT
BEGIN:STANDARD
TZOFFSETFROM:-0400
TZOFFSETTO:-0500
TZNAME:EST
DTSTART:20211107T060000
END:STANDARD
BEGIN:DAYLIGHT
TZOFFSETFROM:-0500
TZOFFSETTO:-0400
TZNAME:EDT
DTSTART:20220313T070000
END:DAYLIGHT
BEGIN:STANDARD
TZOFFSETFROM:-0400
TZOFFSETTO:-0500
TZNAME:EST
DTSTART:20221106T060000
END:STANDARD
BEGIN:DAYLIGHT
TZOFFSETFROM:-0500
TZOFFSETTO:-0400
TZNAME:EDT
DTSTART:20230312T070000
END:DAYLIGHT
BEGIN:STANDARD
TZOFFSETFROM:-0400
TZOFFSETTO:-0500
TZNAME:EST
DTSTART:20231105T060000
END:STANDARD
END:VTIMEZONE
BEGIN:VEVENT
DTSTART;TZID=America/Toronto:20220430T093000
DTEND;TZID=America/Toronto:20220430T113000
DTSTAMP:20260425T063923
CREATED:20211119T225150Z
LAST-MODIFIED:20220321T231931Z
UID:10000075-1651311000-1651318200@blackburnhamlet.ca
SUMMARY:Spring Cleanup
DESCRIPTION:20th Annual Blackburn Hamlet Spring Clean-up  \nWhen: Saturday April 30 at 9:30 a.m. \nRain date: Sunday May 1st at 9:30 a.m. \nWhere: Blackburn Community Hall 190 Glenpark Drive \nAlong with many other communities of the Ottawa area\, the Blackburn Community Association holds an annual Spring Clean-Up.  Please volunteer to help us out; we will assign you a small area of Blackburn for litter pick-up plus provide you with garbage bags and latex gloves. The litter and recyclables can be brought back to the Community Hall.  This event runs on April 30th from 9:30 to 11:30 in the morning. Volunteers are then invited to a BBQ (including vegetarian options) to say thanks for all your ‘dirty’ work.  The Ontario Covid-19 protocols will be in place. \nIf you have any questions\, contact the BCA Environment Committee at: cleanup@blackburnhamlet.ca.
URL:https://blackburnhamlet.ca/event/spring-cleanup/
LOCATION:Blackburn Community Hall\, 190 Glen Park Drive\, Ottawa\, Ontario\, K2B 5A3\, Canada
CATEGORIES:BCA,Environment,Parks
ATTACH;FMTTYPE=image/jpeg:https://blackburnhamlet.ca/wp-content/uploads/2021/11/Sweep-scaled.jpg
ORGANIZER;CN="BCA Environment":MAILTO:enviro@blackburnhamlet.ca
END:VEVENT
END:VCALENDAR