BEGIN:VCALENDAR
VERSION:2.0
PRODID:-//Blackburn Community Association - ECPv6.15.20//NONSGML v1.0//EN
CALSCALE:GREGORIAN
METHOD:PUBLISH
X-WR-CALNAME:Blackburn Community Association
X-ORIGINAL-URL:https://blackburnhamlet.ca
X-WR-CALDESC:Events for Blackburn Community Association
REFRESH-INTERVAL;VALUE=DURATION:PT1H
X-Robots-Tag:noindex
X-PUBLISHED-TTL:PT1H
BEGIN:VTIMEZONE
TZID:America/Toronto
BEGIN:DAYLIGHT
TZOFFSETFROM:-0500
TZOFFSETTO:-0400
TZNAME:EDT
DTSTART:20240310T070000
END:DAYLIGHT
BEGIN:STANDARD
TZOFFSETFROM:-0400
TZOFFSETTO:-0500
TZNAME:EST
DTSTART:20241103T060000
END:STANDARD
BEGIN:DAYLIGHT
TZOFFSETFROM:-0500
TZOFFSETTO:-0400
TZNAME:EDT
DTSTART:20250309T070000
END:DAYLIGHT
BEGIN:STANDARD
TZOFFSETFROM:-0400
TZOFFSETTO:-0500
TZNAME:EST
DTSTART:20251102T060000
END:STANDARD
BEGIN:DAYLIGHT
TZOFFSETFROM:-0500
TZOFFSETTO:-0400
TZNAME:EDT
DTSTART:20260308T070000
END:DAYLIGHT
BEGIN:STANDARD
TZOFFSETFROM:-0400
TZOFFSETTO:-0500
TZNAME:EST
DTSTART:20261101T060000
END:STANDARD
END:VTIMEZONE
BEGIN:VEVENT
DTSTART;TZID=America/Toronto:20250426T093000
DTEND;TZID=America/Toronto:20250426T130000
DTSTAMP:20260424T220959
CREATED:20240923T173722Z
LAST-MODIFIED:20250418T151106Z
UID:10000292-1745659800-1745672400@blackburnhamlet.ca
SUMMARY:Blackburn Hamlet Annual Spring Clean-up
DESCRIPTION:Along with many other communities of the Ottawa area\, the Blackburn Community Association holds an annual Spring Clean-Up.  Please volunteer to help us out; we will assign you a small area of Blackburn for litter pick-up plus provide you with garbage bags and latex gloves. The litter and recyclables can be brought back to the Community Hall.  This event runs on April 26th from 9:30 to 11:30 in the morning. Volunteers are then invited to a BBQ (including vegetarian options) to say thanks for all your ‘dirty’ work. All ages are welcome! \nSpring Clean-Up is more than just picking up litter—it’s about fostering community pride\, protecting our environment\, and creating a cleaner\, healthier space for everyone to enjoy. So let’s welcome the warmer months with a fresh start and make this year’s Spring Clean-Up the best one yet! Together\, we can make a big difference. \nIf you have any questions or would like to help with the event\, contact cleanup@blackburnhamlet.ca. \nWhen: Saturday April 26th at 9:30 a.m. \nRain date: Sunday April 27th at 9:30 a.m. \nLocation: Community Hall 190 Glen Park Drive
URL:https://blackburnhamlet.ca/event/blackburn-hamlet-annual-spring-clean-up/
LOCATION:Blackburn Community Hall\, 190 Glen Park Drive\, Ottawa\, Ontario\, K2B 5A3\, Canada
CATEGORIES:Environment,Spring Cleanup
ATTACH;FMTTYPE=image/png:https://blackburnhamlet.ca/wp-content/uploads/2024/09/Spring-Cleanup.png
ORGANIZER;CN="BCA Environment":MAILTO:enviro@blackburnhamlet.ca
END:VEVENT
END:VCALENDAR