BEGIN:VCALENDAR
VERSION:2.0
PRODID:-//Blackburn Community Association - ECPv6.15.20//NONSGML v1.0//EN
CALSCALE:GREGORIAN
METHOD:PUBLISH
X-WR-CALNAME:Blackburn Community Association
X-ORIGINAL-URL:https://blackburnhamlet.ca
X-WR-CALDESC:Events for Blackburn Community Association
REFRESH-INTERVAL;VALUE=DURATION:PT1H
X-Robots-Tag:noindex
X-PUBLISHED-TTL:PT1H
BEGIN:VTIMEZONE
TZID:America/Toronto
BEGIN:DAYLIGHT
TZOFFSETFROM:-0500
TZOFFSETTO:-0400
TZNAME:EDT
DTSTART:20240310T070000
END:DAYLIGHT
BEGIN:STANDARD
TZOFFSETFROM:-0400
TZOFFSETTO:-0500
TZNAME:EST
DTSTART:20241103T060000
END:STANDARD
BEGIN:DAYLIGHT
TZOFFSETFROM:-0500
TZOFFSETTO:-0400
TZNAME:EDT
DTSTART:20250309T070000
END:DAYLIGHT
BEGIN:STANDARD
TZOFFSETFROM:-0400
TZOFFSETTO:-0500
TZNAME:EST
DTSTART:20251102T060000
END:STANDARD
BEGIN:DAYLIGHT
TZOFFSETFROM:-0500
TZOFFSETTO:-0400
TZNAME:EDT
DTSTART:20260308T070000
END:DAYLIGHT
BEGIN:STANDARD
TZOFFSETFROM:-0400
TZOFFSETTO:-0500
TZNAME:EST
DTSTART:20261101T060000
END:STANDARD
END:VTIMEZONE
BEGIN:VEVENT
DTSTART;VALUE=DATE:20251019
DTEND;VALUE=DATE:20251020
DTSTAMP:20260425T073626
CREATED:20250920T232818Z
LAST-MODIFIED:20250922T174347Z
UID:10000388-1760832000-1760918399@blackburnhamlet.ca
SUMMARY:Community Closet Pop-Up - Children Clothing Only
DESCRIPTION:Kids Clothing and Costumes \n✨ Our Community Closet Pop-Up – Kids’ Clothing & Costumes ✨ \n📅 Sunday\, October 19\, 2025 8:00 AM to Noon \n📍 Community Hall 190 Glen Park Drive \nWe are excited to announce our upcoming Community Closet Pop-Up for kids! 🤗 \nWe are gratefully accepting donations of gently used baby\, toddler\, and children’s clothing. This includes costumes and winter wear. We kindly ask that all donated items be clean and in good condition. \n⚠️ Please note: we are not accepting bags or shoes at this time. All items should be clean and in good condition. \n📍 Donation Drop-Off Locations: \n\n10 Burndale Rd → starting October 5\, 2025 until the event\nCommunity Hall\, 190 Glen Park Drive  → October 18\, 6:00 PM to 8:00 PM\n\nWe look forward to seeing you soon! \nPlease contact enviro@blackburnhamlet.ca for more information or to help with the event. \n 
URL:https://blackburnhamlet.ca/event/community-closet-pop-up-children-clothing-only-2/
LOCATION:Blackburn Community Hall\, 190 Glen Park Drive\, Ottawa\, Ontario\, K2B 5A3\, Canada
CATEGORIES:Community,Environment
ATTACH;FMTTYPE=image/png:https://blackburnhamlet.ca/wp-content/uploads/2025/09/KidsClothing.png
ORGANIZER;CN="BCA Environment":MAILTO:enviro@blackburnhamlet.ca
END:VEVENT
END:VCALENDAR