BEGIN:VCALENDAR
VERSION:2.0
PRODID:-//Blackburn Community Association - ECPv6.15.20//NONSGML v1.0//EN
CALSCALE:GREGORIAN
METHOD:PUBLISH
X-ORIGINAL-URL:https://blackburnhamlet.ca
X-WR-CALDESC:Events for Blackburn Community Association
REFRESH-INTERVAL;VALUE=DURATION:PT1H
X-Robots-Tag:noindex
X-PUBLISHED-TTL:PT1H
BEGIN:VTIMEZONE
TZID:America/Toronto
BEGIN:DAYLIGHT
TZOFFSETFROM:-0500
TZOFFSETTO:-0400
TZNAME:EDT
DTSTART:20240310T070000
END:DAYLIGHT
BEGIN:STANDARD
TZOFFSETFROM:-0400
TZOFFSETTO:-0500
TZNAME:EST
DTSTART:20241103T060000
END:STANDARD
BEGIN:DAYLIGHT
TZOFFSETFROM:-0500
TZOFFSETTO:-0400
TZNAME:EDT
DTSTART:20250309T070000
END:DAYLIGHT
BEGIN:STANDARD
TZOFFSETFROM:-0400
TZOFFSETTO:-0500
TZNAME:EST
DTSTART:20251102T060000
END:STANDARD
BEGIN:DAYLIGHT
TZOFFSETFROM:-0500
TZOFFSETTO:-0400
TZNAME:EDT
DTSTART:20260308T070000
END:DAYLIGHT
BEGIN:STANDARD
TZOFFSETFROM:-0400
TZOFFSETTO:-0500
TZNAME:EST
DTSTART:20261101T060000
END:STANDARD
END:VTIMEZONE
BEGIN:VEVENT
DTSTART;TZID=America/Toronto:20250927T090000
DTEND;TZID=America/Toronto:20250927T130000
DTSTAMP:20260425T104517
CREATED:20250116T000554Z
LAST-MODIFIED:20250517T142147Z
UID:10000307-1758963600-1758978000@blackburnhamlet.ca
SUMMARY:Cancer Chase 2025
DESCRIPTION:The Annual Blackburn Hamlet 5K Walk/Run Cancer Chase event\, supported by the Blackburn Community Association and countless community volunteers and sponsors\, will be held on September 27\, 2025 at the Community Hall\, 190 Glen Park Drive. \nALL funds raised go to the Ottawa Hospital Foundation for Cancer Research.   \nMore details\, including the route map and the event schedule\, are posted on the Cancer Chase Page. \nBe a participant in the fun walk/run\, Be a donor\, Be a volunteer.
URL:https://blackburnhamlet.ca/event/cancer-chase-2025/
LOCATION:Blackburn Community Hall\, 190 Glen Park Drive\, Ottawa\, Ontario\, K2B 5A3\, Canada
CATEGORIES:BCA,Cancer Chase
ATTACH;FMTTYPE=image/png:https://blackburnhamlet.ca/wp-content/uploads/2025/01/Cancerchase-1.png
ORGANIZER;CN="BCA Cancer Chase":MAILTO:cancerchase@blackburnhamlet.ca
END:VEVENT
END:VCALENDAR