BEGIN:VCALENDAR
VERSION:2.0
PRODID:-//Blackburn Community Association - ECPv6.15.20//NONSGML v1.0//EN
CALSCALE:GREGORIAN
METHOD:PUBLISH
X-ORIGINAL-URL:https://blackburnhamlet.ca
X-WR-CALDESC:Events for Blackburn Community Association
REFRESH-INTERVAL;VALUE=DURATION:PT1H
X-Robots-Tag:noindex
X-PUBLISHED-TTL:PT1H
BEGIN:VTIMEZONE
TZID:America/Toronto
BEGIN:DAYLIGHT
TZOFFSETFROM:-0500
TZOFFSETTO:-0400
TZNAME:EDT
DTSTART:20240310T070000
END:DAYLIGHT
BEGIN:STANDARD
TZOFFSETFROM:-0400
TZOFFSETTO:-0500
TZNAME:EST
DTSTART:20241103T060000
END:STANDARD
BEGIN:DAYLIGHT
TZOFFSETFROM:-0500
TZOFFSETTO:-0400
TZNAME:EDT
DTSTART:20250309T070000
END:DAYLIGHT
BEGIN:STANDARD
TZOFFSETFROM:-0400
TZOFFSETTO:-0500
TZNAME:EST
DTSTART:20251102T060000
END:STANDARD
BEGIN:DAYLIGHT
TZOFFSETFROM:-0500
TZOFFSETTO:-0400
TZNAME:EDT
DTSTART:20260308T070000
END:DAYLIGHT
BEGIN:STANDARD
TZOFFSETFROM:-0400
TZOFFSETTO:-0500
TZNAME:EST
DTSTART:20261101T060000
END:STANDARD
END:VTIMEZONE
BEGIN:VEVENT
DTSTART;VALUE=DATE:20250705
DTEND;VALUE=DATE:20250707
DTSTAMP:20260425T201652
CREATED:20250215T213505Z
LAST-MODIFIED:20250629T164711Z
UID:10000329-1751673600-1751846399@blackburnhamlet.ca
SUMMARY:Garden Stroll
DESCRIPTION:Mark your calendars for July 5 & 6 from 10am to 4pm for the 4th annual Blackburn Hamlet Garden Stroll! \nThis free\, self-guided tour invites you to explore the beauty of local gardens without the need for tickets—just bring your curiosity and enthusiasm.  You can either follow the map online or you can download and print a brochure with the locations and activities. \nOpen to the public\, the event welcomes visitors from across the city and beyond. This year\, you can look forward to enjoying 17 gardens\, featuring both returning favourites and new additions. Two Master Gardeners will be on hand to answer your questions\, and various artists will be present with their easels and paints\, adding a creative touch to the stroll. \nNew this year\, Adrian will be roaming the Hamlet in his ice cream truck\, offering sweet treats on both days. Also\, Just Food\, located on 150 acres of NCC property off Pepin Court\, will open their farm and gardens for visitors. Printed maps with more information will be available and will be posted on social media. \nFor inquiries contact Cynthia Hoisak at 613-799-9514 or choisak@rogers.com\, and Miriam Hampson at miriam@blackburnhamlet.ca. \n \nEntertainment: \nSATURDAY JULY 5TH \nMUSICIANS \n\nJenifir & David Thies-Thompson\, Flute & Viola @ 11 Redberry Crt 10-11:30am\n\nPLEIN AIR ARTISTS \n\nDulce Juvet @ 62 Eastpark Dr 10am-1pm\nZoe Michel Hoisak @ 47 Westpark Dr 10am-4pm\nPat Coulombe @66 Eastpark Dr 10am-1pm\nDan Edward @ 25 Parkwood 10am-4pm\nPierre Cloutier @ 12 Woodview 10am-4pm\n\nJUST FOOD COMMUNITY FARM \n\nSelf Guided Tours 10am to 4pm\n\nSUNDAY JULY 6TH \nMUSICIANS \n\nThe Fake McCoys @ 1 Bearbrook\, Light Rock Band Trio\, 1:00-2:30 pm\n\nMASTER GARDENERS \n\nBelinda Boekhoven & Pauline Yelle @ 47 Westpark Dr 10am-2pm\n\nPLEIN AIR ARTISTS \n\nMarion Jean Hall @ 62 Centrepark Dr Starting at 10am\nDan Edward @ 62 Eastpark Dr 10am-4pm\nPierre Cloutier @ 12 Woodview 10am-4pm\n\nJUST FOOD COMMUNITY FARM \n\nBirch Path Healing Garden\, Storytelling in Nature 10:30am-12pm\nFarm Stand 11am-2pm\nBountiful Beaver plot tours and daisy picking Noon-1pm.\nGuided Tours by Foret Capitale Forest 1pm\, 2pm\, 3pm\n\nEXTRAS \n\nCOOL TREATS Ice Cream Truck\, making the rounds of the Hamlet Saturday and Sunday!\nDRONE FOOTAGE of GARDENS will be available on the BCA Facebook page throughout the weekend!\nFOOD BANK DONATIONS will be accepted at the garden locations.
URL:https://blackburnhamlet.ca/event/garden-stroll/
LOCATION:Blackburn Hamlet\, Ottawa\, Ontario\, Canada
CATEGORIES:Beautification
ATTACH;FMTTYPE=image/jpeg:https://blackburnhamlet.ca/wp-content/uploads/2025/02/garden2024.jpg
ORGANIZER;CN="BCA Garden Tour":MAILTO:gardentour@blackburnhamlet.ca
END:VEVENT
END:VCALENDAR